BEGIN:VCALENDAR
VERSION:2.0
PRODID:-//SALLY Dansgezelschap Maastricht - ECPv6.15.11//NONSGML v1.0//EN
CALSCALE:GREGORIAN
METHOD:PUBLISH
X-WR-CALNAME:SALLY Dansgezelschap Maastricht
X-ORIGINAL-URL:https://sallydansgezelschapmaastricht.nl
X-WR-CALDESC:Evenementen voor SALLY Dansgezelschap Maastricht
REFRESH-INTERVAL;VALUE=DURATION:PT1H
X-Robots-Tag:noindex
X-PUBLISHED-TTL:PT1H
BEGIN:VTIMEZONE
TZID:Europe/Amsterdam
BEGIN:DAYLIGHT
TZOFFSETFROM:+0100
TZOFFSETTO:+0200
TZNAME:CEST
DTSTART:20230326T010000
END:DAYLIGHT
BEGIN:STANDARD
TZOFFSETFROM:+0200
TZOFFSETTO:+0100
TZNAME:CET
DTSTART:20231029T010000
END:STANDARD
BEGIN:DAYLIGHT
TZOFFSETFROM:+0100
TZOFFSETTO:+0200
TZNAME:CEST
DTSTART:20240331T010000
END:DAYLIGHT
BEGIN:STANDARD
TZOFFSETFROM:+0200
TZOFFSETTO:+0100
TZNAME:CET
DTSTART:20241027T010000
END:STANDARD
BEGIN:DAYLIGHT
TZOFFSETFROM:+0100
TZOFFSETTO:+0200
TZNAME:CEST
DTSTART:20250330T010000
END:DAYLIGHT
BEGIN:STANDARD
TZOFFSETFROM:+0200
TZOFFSETTO:+0100
TZNAME:CET
DTSTART:20251026T010000
END:STANDARD
END:VTIMEZONE
BEGIN:VEVENT
DTSTART;TZID=Europe/Amsterdam:20241013T153000
DTEND;TZID=Europe/Amsterdam:20241013T163000
DTSTAMP:20260421T002855
CREATED:20240701T100935Z
LAST-MODIFIED:20240701T101019Z
UID:6267-1728833400-1728837000@sallydansgezelschapmaastricht.nl
SUMMARY:Krijtje Mij
DESCRIPTION:
URL:https://sallydansgezelschapmaastricht.nl/event/krijtje-mij-2/
LOCATION:Musis Arnhem\, Velperbinnensingel 15\, Arnhem\, Nederland
CATEGORIES:Krijtje Mij
ATTACH;FMTTYPE=image/jpeg:https://sallydansgezelschapmaastricht.nl/wp-content/uploads/2024/07/Krijtje-Mij-Promobeeld-gecomprimeerd-1.jpg
END:VEVENT
BEGIN:VEVENT
DTSTART;TZID=Europe/Amsterdam:20241013T133000
DTEND;TZID=Europe/Amsterdam:20241013T143000
DTSTAMP:20260421T002855
CREATED:20240701T093235Z
LAST-MODIFIED:20240701T093235Z
UID:6264-1728826200-1728829800@sallydansgezelschapmaastricht.nl
SUMMARY:Krijtje Mij
DESCRIPTION:
URL:https://sallydansgezelschapmaastricht.nl/event/krijtje-mij/
LOCATION:Musis Arnhem\, Velperbinnensingel 15\, Arnhem\, Nederland
CATEGORIES:Krijtje Mij
ATTACH;FMTTYPE=image/jpeg:https://sallydansgezelschapmaastricht.nl/wp-content/uploads/2024/07/Krijtje-Mij-Promobeeld-gecomprimeerd-1.jpg
END:VEVENT
BEGIN:VEVENT
DTSTART;TZID=Europe/Amsterdam:20240928T160000
DTEND;TZID=Europe/Amsterdam:20240928T170000
DTSTAMP:20260421T002855
CREATED:20240701T092605Z
LAST-MODIFIED:20240701T093408Z
UID:6261-1727539200-1727542800@sallydansgezelschapmaastricht.nl
SUMMARY:Krijtje Mij Première
DESCRIPTION:
URL:https://sallydansgezelschapmaastricht.nl/event/krijtje-mij-premiere-2/
LOCATION:Theater AINSI\, Lage Kanaaldijk 112-113\, Maastricht\, 6212 NA\, Nederland
CATEGORIES:Krijtje Mij
ATTACH;FMTTYPE=image/jpeg:https://sallydansgezelschapmaastricht.nl/wp-content/uploads/2024/07/Krijtje-Mij-Promobeeld-gecomprimeerd-1.jpg
END:VEVENT
BEGIN:VEVENT
DTSTART;VALUE=DATE:20240922
DTEND;VALUE=DATE:20240923
DTSTAMP:20260421T002855
CREATED:20240701T090220Z
LAST-MODIFIED:20240701T100532Z
UID:6254-1726963200-1727049599@sallydansgezelschapmaastricht.nl
SUMMARY:Krijtje Mij Première
DESCRIPTION:
URL:https://sallydansgezelschapmaastricht.nl/event/krijtje-mij-premiere/
LOCATION:Munttheater\, Collegeplein 3\, Weert\, 6001HN
CATEGORIES:Krijtje Mij
ATTACH;FMTTYPE=image/jpeg:https://sallydansgezelschapmaastricht.nl/wp-content/uploads/2024/07/Krijtje-Mij-Promobeeld-gecomprimeerd-1.jpg
END:VEVENT
BEGIN:VEVENT
DTSTART;TZID=Europe/Amsterdam:20240907T140000
DTEND;TZID=Europe/Amsterdam:20240907T150000
DTSTAMP:20260421T002855
CREATED:20240821T104110Z
LAST-MODIFIED:20240821T104255Z
UID:6416-1725717600-1725721200@sallydansgezelschapmaastricht.nl
SUMMARY:CulturBazar
DESCRIPTION:
URL:https://sallydansgezelschapmaastricht.nl/event/culturbazar/
LOCATION:Centre Charlemagne\, Katschhof 1\, 52062 Aachen
ATTACH;FMTTYPE=image/jpeg:https://sallydansgezelschapmaastricht.nl/wp-content/uploads/2024/08/CulturBazar_Logo_RZ_rgb.jpg
END:VEVENT
BEGIN:VEVENT
DTSTART;VALUE=DATE:20240906
DTEND;VALUE=DATE:20240907
DTSTAMP:20260421T002855
CREATED:20240701T085420Z
LAST-MODIFIED:20240701T085420Z
UID:6251-1725580800-1725667199@sallydansgezelschapmaastricht.nl
SUMMARY:PAS Festival
DESCRIPTION:
URL:https://sallydansgezelschapmaastricht.nl/event/pas-festival/
LOCATION:PAS Festival\, Bouillonstraat 3\, Maastricht\, Nederland
CATEGORIES:DANSLAB on tour #2
ATTACH;FMTTYPE=image/jpeg:https://sallydansgezelschapmaastricht.nl/wp-content/uploads/2024/07/sitetopf.jpg
END:VEVENT
BEGIN:VEVENT
DTSTART;VALUE=DATE:20240810
DTEND;VALUE=DATE:20240812
DTSTAMP:20260421T002855
CREATED:20240701T084451Z
LAST-MODIFIED:20240701T084906Z
UID:6248-1723248000-1723420799@sallydansgezelschapmaastricht.nl
SUMMARY:Dans Promenade Limburg Festival
DESCRIPTION:
URL:https://sallydansgezelschapmaastricht.nl/event/dans-promenade-limburg-festival/
LOCATION:ECI cultuurfabriek\, Roermond
CATEGORIES:DANSLAB on tour #2
ATTACH;FMTTYPE=image/png:https://sallydansgezelschapmaastricht.nl/wp-content/uploads/2024/07/Limburg-Festival.png
END:VEVENT
BEGIN:VEVENT
DTSTART;TZID=Europe/Amsterdam:20240615T193000
DTEND;TZID=Europe/Amsterdam:20240615T210000
DTSTAMP:20260421T002855
CREATED:20230731T110753Z
LAST-MODIFIED:20231206T103548Z
UID:5914-1718479800-1718485200@sallydansgezelschapmaastricht.nl
SUMMARY:DANSLAB on tour #2
DESCRIPTION:
URL:https://sallydansgezelschapmaastricht.nl/event/danslab-on-tour2-15-06-24-2/
LOCATION:Theater AINSI\, Lage Kanaaldijk 112-113\, Maastricht\, 6212 NA\, Nederland
CATEGORIES:DANSLAB on tour #2
ATTACH;FMTTYPE=image/webp:https://sallydansgezelschapmaastricht.nl/wp-content/uploads/2023/05/220905-sallydm-danslab-050-L.webp
END:VEVENT
BEGIN:VEVENT
DTSTART;TZID=Europe/Amsterdam:20240609T160000
DTEND;TZID=Europe/Amsterdam:20240609T163000
DTSTAMP:20260421T002855
CREATED:20230718T134312Z
LAST-MODIFIED:20231016T120413Z
UID:5899-1717948800-1717950600@sallydansgezelschapmaastricht.nl
SUMMARY:De Vuurvogel
DESCRIPTION:
URL:https://sallydansgezelschapmaastricht.nl/event/god-is-a-dj-10-6-23-2-2-2-2-3-2-2-2-2-2-2-2-2/
LOCATION:Musis Arnhem\, Velperbinnensingel 15\, Arnhem\, Nederland
CATEGORIES:De Vuurvogel
ATTACH;FMTTYPE=image/jpeg:https://sallydansgezelschapmaastricht.nl/wp-content/uploads/2021/11/Naamloos-3.jpg
END:VEVENT
BEGIN:VEVENT
DTSTART;TZID=Europe/Amsterdam:20240609T140000
DTEND;TZID=Europe/Amsterdam:20240609T143000
DTSTAMP:20260421T002855
CREATED:20230718T134011Z
LAST-MODIFIED:20230731T111208Z
UID:5896-1717941600-1717943400@sallydansgezelschapmaastricht.nl
SUMMARY:De Vuurvogel
DESCRIPTION:
URL:https://sallydansgezelschapmaastricht.nl/event/vuurvogel-09-06-24/
LOCATION:Musis Arnhem\, Velperbinnensingel 15\, Arnhem\, Nederland
CATEGORIES:De Vuurvogel
ATTACH;FMTTYPE=image/jpeg:https://sallydansgezelschapmaastricht.nl/wp-content/uploads/2021/11/Naamloos-3.jpg
END:VEVENT
BEGIN:VEVENT
DTSTART;TZID=Europe/Amsterdam:20240607T193000
DTEND;TZID=Europe/Amsterdam:20240607T210000
DTSTAMP:20260421T002855
CREATED:20230731T110436Z
LAST-MODIFIED:20230731T110539Z
UID:5911-1717788600-1717794000@sallydansgezelschapmaastricht.nl
SUMMARY:DANSLAB on tour #2
DESCRIPTION:
URL:https://sallydansgezelschapmaastricht.nl/event/danslab-on-tour2-07-06-24/
LOCATION:Stadsschouwburg Utrecht\, Lucasbolwerk 24\, Utrecht\, 3512 EJ\, Nederland
CATEGORIES:DANSLAB on tour #2
ATTACH;FMTTYPE=image/webp:https://sallydansgezelschapmaastricht.nl/wp-content/uploads/2023/05/220905-sallydm-danslab-050-L.webp
END:VEVENT
BEGIN:VEVENT
DTSTART;TZID=Europe/Amsterdam:20240531T193000
DTEND;TZID=Europe/Amsterdam:20240531T210000
DTSTAMP:20260421T002855
CREATED:20230731T110944Z
LAST-MODIFIED:20230731T110944Z
UID:5913-1717183800-1717189200@sallydansgezelschapmaastricht.nl
SUMMARY:DANSLAB on tour #2
DESCRIPTION:
URL:https://sallydansgezelschapmaastricht.nl/event/danslab-on-tour2-31-05-24/
LOCATION:Het Park\, Westerdijk 4\, Hoorn\, 1621LE\, Nederland
CATEGORIES:DANSLAB on tour #2
ATTACH;FMTTYPE=image/webp:https://sallydansgezelschapmaastricht.nl/wp-content/uploads/2023/05/220905-sallydm-danslab-050-L.webp
END:VEVENT
BEGIN:VEVENT
DTSTART;TZID=Europe/Amsterdam:20240526T153000
DTEND;TZID=Europe/Amsterdam:20240526T163000
DTSTAMP:20260421T002855
CREATED:20230718T125058Z
LAST-MODIFIED:20230731T111242Z
UID:5894-1716737400-1716741000@sallydansgezelschapmaastricht.nl
SUMMARY:De Vuurvogel
DESCRIPTION:
URL:https://sallydansgezelschapmaastricht.nl/event/vuurvogel-26-05-24/
LOCATION:Zwolse Theaters / Schouwburg Odeon\, Zwolle
CATEGORIES:De Vuurvogel
ATTACH;FMTTYPE=image/jpeg:https://sallydansgezelschapmaastricht.nl/wp-content/uploads/2021/11/Naamloos-3.jpg
END:VEVENT
BEGIN:VEVENT
DTSTART;TZID=Europe/Amsterdam:20240526T140000
DTEND;TZID=Europe/Amsterdam:20240526T150000
DTSTAMP:20260421T002855
CREATED:20230718T125009Z
LAST-MODIFIED:20230731T111259Z
UID:5892-1716732000-1716735600@sallydansgezelschapmaastricht.nl
SUMMARY:De Vuurvogel
DESCRIPTION:
URL:https://sallydansgezelschapmaastricht.nl/event/vuurvogel-26-05-24-2/
LOCATION:Zwolse Theaters / Schouwburg Odeon\, Zwolle
CATEGORIES:De Vuurvogel
ATTACH;FMTTYPE=image/jpeg:https://sallydansgezelschapmaastricht.nl/wp-content/uploads/2021/11/Naamloos-3.jpg
END:VEVENT
BEGIN:VEVENT
DTSTART;TZID=Europe/Amsterdam:20240520T140000
DTEND;TZID=Europe/Amsterdam:20240520T150000
DTSTAMP:20260421T002855
CREATED:20230718T112848Z
LAST-MODIFIED:20230731T111314Z
UID:5890-1716213600-1716217200@sallydansgezelschapmaastricht.nl
SUMMARY:De Vuurvogel
DESCRIPTION:
URL:https://sallydansgezelschapmaastricht.nl/event/vuurvogel-20-05-24/
LOCATION:schouwburg het park\, Westerdijk 4\, Hoorn\, 1621 LE
CATEGORIES:De Vuurvogel
ATTACH;FMTTYPE=image/jpeg:https://sallydansgezelschapmaastricht.nl/wp-content/uploads/2021/11/Naamloos-3.jpg
END:VEVENT
BEGIN:VEVENT
DTSTART;TZID=Europe/Amsterdam:20240515T160000
DTEND;TZID=Europe/Amsterdam:20240515T170000
DTSTAMP:20260421T002855
CREATED:20230718T112714Z
LAST-MODIFIED:20230731T111331Z
UID:5888-1715788800-1715792400@sallydansgezelschapmaastricht.nl
SUMMARY:De Vuurvogel
DESCRIPTION:
URL:https://sallydansgezelschapmaastricht.nl/event/vuurvogel-15-05-24/
LOCATION:30CC – Locatie Schouwburg\, Bondgenotenlaan\, Leuven\, Nederland
CATEGORIES:De Vuurvogel
ATTACH;FMTTYPE=image/jpeg:https://sallydansgezelschapmaastricht.nl/wp-content/uploads/2021/11/Naamloos-3.jpg
END:VEVENT
BEGIN:VEVENT
DTSTART;TZID=Europe/Amsterdam:20240515T140000
DTEND;TZID=Europe/Amsterdam:20240515T150000
DTSTAMP:20260421T002855
CREATED:20230718T112333Z
LAST-MODIFIED:20230731T111347Z
UID:5885-1715781600-1715785200@sallydansgezelschapmaastricht.nl
SUMMARY:De Vuurvogel
DESCRIPTION:
URL:https://sallydansgezelschapmaastricht.nl/event/vuurvogel-15-05-24-2/
LOCATION:30CC – Locatie Schouwburg\, Bondgenotenlaan\, Leuven\, Nederland
CATEGORIES:De Vuurvogel
ATTACH;FMTTYPE=image/jpeg:https://sallydansgezelschapmaastricht.nl/wp-content/uploads/2021/11/Naamloos-3.jpg
END:VEVENT
BEGIN:VEVENT
DTSTART;TZID=Europe/Amsterdam:20240428T140000
DTEND;TZID=Europe/Amsterdam:20240428T150000
DTSTAMP:20260421T002855
CREATED:20230718T112033Z
LAST-MODIFIED:20230731T111403Z
UID:5883-1714312800-1714316400@sallydansgezelschapmaastricht.nl
SUMMARY:De Vuurvogel
DESCRIPTION:
URL:https://sallydansgezelschapmaastricht.nl/event/vuurvogel-28-04-24/
LOCATION:Parkstad Limburg Theaters / Theater Heerlen\, Heerlen
CATEGORIES:De Vuurvogel
ATTACH;FMTTYPE=image/jpeg:https://sallydansgezelschapmaastricht.nl/wp-content/uploads/2021/11/Naamloos-3.jpg
END:VEVENT
BEGIN:VEVENT
DTSTART;TZID=Europe/Amsterdam:20240428T110000
DTEND;TZID=Europe/Amsterdam:20240428T120000
DTSTAMP:20260421T002855
CREATED:20230718T111917Z
LAST-MODIFIED:20230731T111418Z
UID:5881-1714302000-1714305600@sallydansgezelschapmaastricht.nl
SUMMARY:De Vuurvogel
DESCRIPTION:
URL:https://sallydansgezelschapmaastricht.nl/event/vuurvogel-28-04-24-2/
LOCATION:Parkstad Limburg Theaters / Theater Heerlen\, Heerlen
CATEGORIES:De Vuurvogel
ATTACH;FMTTYPE=image/jpeg:https://sallydansgezelschapmaastricht.nl/wp-content/uploads/2021/11/Naamloos-3.jpg
END:VEVENT
BEGIN:VEVENT
DTSTART;TZID=Europe/Amsterdam:20240425T193000
DTEND;TZID=Europe/Amsterdam:20240425T210000
DTSTAMP:20260421T002855
CREATED:20230731T102155Z
LAST-MODIFIED:20230731T111429Z
UID:5908-1714073400-1714078800@sallydansgezelschapmaastricht.nl
SUMMARY:DANSLAB on tour #2
DESCRIPTION:
URL:https://sallydansgezelschapmaastricht.nl/event/danslab-on-tour2-25-04-24/
LOCATION:De Schuur\, Lange Begijnestraat 9\, Haarlem\, 2011 HH\, Nederland
CATEGORIES:DANSLAB on tour #2
ATTACH;FMTTYPE=image/webp:https://sallydansgezelschapmaastricht.nl/wp-content/uploads/2023/05/220905-sallydm-danslab-050-L.webp
END:VEVENT
BEGIN:VEVENT
DTSTART;TZID=Europe/Amsterdam:20240421T153000
DTEND;TZID=Europe/Amsterdam:20240421T163000
DTSTAMP:20260421T002855
CREATED:20230718T111758Z
LAST-MODIFIED:20230731T111448Z
UID:5879-1713713400-1713717000@sallydansgezelschapmaastricht.nl
SUMMARY:De Vuurvogel
DESCRIPTION:
URL:https://sallydansgezelschapmaastricht.nl/event/vuurvogel-21-04-24/
LOCATION:SPOT/Stadsschouwburg Groningen\, Turfsingel 86\, Groningen\, 9711 VX\, Netherlands
CATEGORIES:De Vuurvogel
ATTACH;FMTTYPE=image/jpeg:https://sallydansgezelschapmaastricht.nl/wp-content/uploads/2021/11/Naamloos-3.jpg
END:VEVENT
BEGIN:VEVENT
DTSTART;TZID=Europe/Amsterdam:20240421T140000
DTEND;TZID=Europe/Amsterdam:20240421T150000
DTSTAMP:20260421T002855
CREATED:20230718T111623Z
LAST-MODIFIED:20230731T111507Z
UID:5877-1713708000-1713711600@sallydansgezelschapmaastricht.nl
SUMMARY:De Vuurvogel
DESCRIPTION:
URL:https://sallydansgezelschapmaastricht.nl/event/vuurvogel-21-04-24-2/
LOCATION:SPOT/Stadsschouwburg Groningen\, Turfsingel 86\, Groningen\, 9711 VX\, Netherlands
CATEGORIES:De Vuurvogel
ATTACH;FMTTYPE=image/jpeg:https://sallydansgezelschapmaastricht.nl/wp-content/uploads/2021/11/Naamloos-3.jpg
END:VEVENT
BEGIN:VEVENT
DTSTART;TZID=Europe/Amsterdam:20240420T193000
DTEND;TZID=Europe/Amsterdam:20240420T210000
DTSTAMP:20260421T002855
CREATED:20230731T101749Z
LAST-MODIFIED:20231206T103717Z
UID:5906-1713641400-1713646800@sallydansgezelschapmaastricht.nl
SUMMARY:DANSLAB on tour #2
DESCRIPTION:
URL:https://sallydansgezelschapmaastricht.nl/event/danslab-on-tour2-20-04-24/
LOCATION:Schouwburg Agnietenhof\, St. Agnietenstraat 2\, Tiel\, 4001NB\, Nederland
CATEGORIES:DANSLAB on tour #2
ATTACH;FMTTYPE=image/webp:https://sallydansgezelschapmaastricht.nl/wp-content/uploads/2023/05/220905-sallydm-danslab-050-L.webp
END:VEVENT
BEGIN:VEVENT
DTSTART;TZID=Europe/Amsterdam:20240413T140000
DTEND;TZID=Europe/Amsterdam:20240413T150000
DTSTAMP:20260421T002855
CREATED:20230718T111447Z
LAST-MODIFIED:20230731T111523Z
UID:5875-1713016800-1713020400@sallydansgezelschapmaastricht.nl
SUMMARY:De Vuurvogel
DESCRIPTION:
URL:https://sallydansgezelschapmaastricht.nl/event/vuurvogel-13-04-24/
LOCATION:Theater AINSI\, Lage Kanaaldijk 112-113\, Maastricht\, 6212 NA\, Nederland
CATEGORIES:De Vuurvogel
ATTACH;FMTTYPE=image/jpeg:https://sallydansgezelschapmaastricht.nl/wp-content/uploads/2021/11/Naamloos-3.jpg
END:VEVENT
BEGIN:VEVENT
DTSTART;TZID=Europe/Amsterdam:20240413T110000
DTEND;TZID=Europe/Amsterdam:20240413T120000
DTSTAMP:20260421T002855
CREATED:20230718T111104Z
LAST-MODIFIED:20230731T111538Z
UID:5873-1713006000-1713009600@sallydansgezelschapmaastricht.nl
SUMMARY:De Vuurvogel
DESCRIPTION:
URL:https://sallydansgezelschapmaastricht.nl/event/vuurvogel-13-04-24-2/
LOCATION:Theater AINSI\, Lage Kanaaldijk 112-113\, Maastricht\, 6212 NA\, Nederland
CATEGORIES:De Vuurvogel
ATTACH;FMTTYPE=image/jpeg:https://sallydansgezelschapmaastricht.nl/wp-content/uploads/2021/11/Naamloos-3.jpg
END:VEVENT
BEGIN:VEVENT
DTSTART;TZID=Europe/Amsterdam:20240313T200000
DTEND;TZID=Europe/Amsterdam:20240313T210000
DTSTAMP:20260421T002855
CREATED:20230731T101544Z
LAST-MODIFIED:20230731T101544Z
UID:5904-1710360000-1710363600@sallydansgezelschapmaastricht.nl
SUMMARY:DANSLAB on tour #2
DESCRIPTION:
URL:https://sallydansgezelschapmaastricht.nl/event/danslab-on-tour2-13-3-24/
LOCATION:Theater Zuidplein\, Zuidplein 60-64\, Rotterdam\, 3083CW\, Nederland
CATEGORIES:DANSLAB on tour #2
ATTACH;FMTTYPE=image/webp:https://sallydansgezelschapmaastricht.nl/wp-content/uploads/2023/05/220905-sallydm-danslab-050-L.webp
END:VEVENT
BEGIN:VEVENT
DTSTART;TZID=Europe/Amsterdam:20240309T200000
DTEND;TZID=Europe/Amsterdam:20240309T210000
DTSTAMP:20260421T002855
CREATED:20230718T105137Z
LAST-MODIFIED:20230808T094216Z
UID:5871-1710014400-1710018000@sallydansgezelschapmaastricht.nl
SUMMARY:DANSLAB on tour #2 | première
DESCRIPTION:
URL:https://sallydansgezelschapmaastricht.nl/event/danslab-on-tour2-9-3-24/
LOCATION:ECI cultuurfabriek\, Roermond
CATEGORIES:DANSLAB on tour #2
ATTACH;FMTTYPE=image/webp:https://sallydansgezelschapmaastricht.nl/wp-content/uploads/2023/05/220905-sallydm-danslab-050-L.webp
END:VEVENT
BEGIN:VEVENT
DTSTART;TZID=Europe/Amsterdam:20240225T130000
DTEND;TZID=Europe/Amsterdam:20240225T170000
DTSTAMP:20260421T002855
CREATED:20230807T092618Z
LAST-MODIFIED:20230807T092618Z
UID:5944-1708866000-1708880400@sallydansgezelschapmaastricht.nl
SUMMARY:De Grote Gele Graafmachine
DESCRIPTION:
URL:https://sallydansgezelschapmaastricht.nl/event/de-grote-gele-graafmachine-25-02-24/
LOCATION:Toon Hermans Theater\, Sittard
CATEGORIES:De Grote Gele Graafmachine
ATTACH;FMTTYPE=image/webp:https://sallydansgezelschapmaastricht.nl/wp-content/uploads/2022/10/web_3.webp
END:VEVENT
BEGIN:VEVENT
DTSTART;TZID=Europe/Amsterdam:20240218T150000
DTEND;TZID=Europe/Amsterdam:20240218T163000
DTSTAMP:20260421T002855
CREATED:20230808T094131Z
LAST-MODIFIED:20230808T094131Z
UID:5988-1708268400-1708273800@sallydansgezelschapmaastricht.nl
SUMMARY:De Grote Gele Graafmachine
DESCRIPTION:
URL:https://sallydansgezelschapmaastricht.nl/event/de-grote-gele-graafmachine-18-02-24/
LOCATION:De Schuur\, Lange Begijnestraat 9\, Haarlem\, 2011 HH\, Nederland
CATEGORIES:De Grote Gele Graafmachine
ATTACH;FMTTYPE=image/webp:https://sallydansgezelschapmaastricht.nl/wp-content/uploads/2022/10/web_3.webp
END:VEVENT
BEGIN:VEVENT
DTSTART;TZID=Europe/Amsterdam:20240217T140000
DTEND;TZID=Europe/Amsterdam:20240217T163000
DTSTAMP:20260421T002855
CREATED:20230808T093918Z
LAST-MODIFIED:20230808T093918Z
UID:5986-1708178400-1708187400@sallydansgezelschapmaastricht.nl
SUMMARY:De Grote Gele Graafmachine
DESCRIPTION:
URL:https://sallydansgezelschapmaastricht.nl/event/de-grote-gele-graafmachine-17-02-24/
LOCATION:Theater Zuidplein\, Zuidplein 60-64\, Rotterdam\, 3083CW\, Nederland
CATEGORIES:De Grote Gele Graafmachine
ATTACH;FMTTYPE=image/webp:https://sallydansgezelschapmaastricht.nl/wp-content/uploads/2022/10/web_3.webp
END:VEVENT
END:VCALENDAR