BEGIN:VCALENDAR
VERSION:2.0
PRODID:-//SALLY Dansgezelschap Maastricht - ECPv6.15.11//NONSGML v1.0//EN
CALSCALE:GREGORIAN
METHOD:PUBLISH
X-WR-CALNAME:SALLY Dansgezelschap Maastricht
X-ORIGINAL-URL:https://sallydansgezelschapmaastricht.nl
X-WR-CALDESC:Evenementen voor SALLY Dansgezelschap Maastricht
REFRESH-INTERVAL;VALUE=DURATION:PT1H
X-Robots-Tag:noindex
X-PUBLISHED-TTL:PT1H
BEGIN:VTIMEZONE
TZID:Europe/Amsterdam
BEGIN:DAYLIGHT
TZOFFSETFROM:+0100
TZOFFSETTO:+0200
TZNAME:CEST
DTSTART:20220327T010000
END:DAYLIGHT
BEGIN:STANDARD
TZOFFSETFROM:+0200
TZOFFSETTO:+0100
TZNAME:CET
DTSTART:20221030T010000
END:STANDARD
BEGIN:DAYLIGHT
TZOFFSETFROM:+0100
TZOFFSETTO:+0200
TZNAME:CEST
DTSTART:20230326T010000
END:DAYLIGHT
BEGIN:STANDARD
TZOFFSETFROM:+0200
TZOFFSETTO:+0100
TZNAME:CET
DTSTART:20231029T010000
END:STANDARD
BEGIN:DAYLIGHT
TZOFFSETFROM:+0100
TZOFFSETTO:+0200
TZNAME:CEST
DTSTART:20240331T010000
END:DAYLIGHT
BEGIN:STANDARD
TZOFFSETFROM:+0200
TZOFFSETTO:+0100
TZNAME:CET
DTSTART:20241027T010000
END:STANDARD
END:VTIMEZONE
BEGIN:VEVENT
DTSTART;TZID=Europe/Amsterdam:20231014T160000
DTEND;TZID=Europe/Amsterdam:20231014T170000
DTSTAMP:20260420T041720
CREATED:20230807T092130Z
LAST-MODIFIED:20230808T094338Z
UID:5942-1697299200-1697302800@sallydansgezelschapmaastricht.nl
SUMMARY:De Grote Gele Graafmachine | première
DESCRIPTION:
URL:https://sallydansgezelschapmaastricht.nl/event/de-grote-gele-graafmachine-14-10-23/
LOCATION:Munttheater\, Collegeplein 3\, Weert\, 6001HN
CATEGORIES:De Grote Gele Graafmachine
ATTACH;FMTTYPE=image/webp:https://sallydansgezelschapmaastricht.nl/wp-content/uploads/2022/10/web_3.webp
END:VEVENT
BEGIN:VEVENT
DTSTART;TZID=Europe/Amsterdam:20231017T143000
DTEND;TZID=Europe/Amsterdam:20231017T160000
DTSTAMP:20260420T041720
CREATED:20230807T093002Z
LAST-MODIFIED:20230807T093002Z
UID:5946-1697553000-1697558400@sallydansgezelschapmaastricht.nl
SUMMARY:De Grote Gele Graafmachine
DESCRIPTION:
URL:https://sallydansgezelschapmaastricht.nl/event/de-grote-gele-graafmachine-17-10-23-2/
LOCATION:Theater Kikker\, Ganzenmarkt 14\, Utrecht\, Nederland
CATEGORIES:De Grote Gele Graafmachine
ATTACH;FMTTYPE=image/webp:https://sallydansgezelschapmaastricht.nl/wp-content/uploads/2022/10/web_3.webp
END:VEVENT
BEGIN:VEVENT
DTSTART;TZID=Europe/Amsterdam:20231018T143000
DTEND;TZID=Europe/Amsterdam:20231018T160000
DTSTAMP:20260420T041720
CREATED:20230807T093226Z
LAST-MODIFIED:20230807T093226Z
UID:5948-1697639400-1697644800@sallydansgezelschapmaastricht.nl
SUMMARY:De Grote Gele Graafmachine
DESCRIPTION:
URL:https://sallydansgezelschapmaastricht.nl/event/de-grote-gele-graafmachine-18-10-23-2-2/
LOCATION:Theater aan de Slinger\, De Slinger 40\, Houten\, 3995 DE\, Nederland
CATEGORIES:De Grote Gele Graafmachine
ATTACH;FMTTYPE=image/webp:https://sallydansgezelschapmaastricht.nl/wp-content/uploads/2022/10/web_3.webp
END:VEVENT
BEGIN:VEVENT
DTSTART;TZID=Europe/Amsterdam:20231019T143000
DTEND;TZID=Europe/Amsterdam:20231019T160000
DTSTAMP:20260420T041720
CREATED:20230807T093457Z
LAST-MODIFIED:20230807T093457Z
UID:5950-1697725800-1697731200@sallydansgezelschapmaastricht.nl
SUMMARY:De Grote Gele Graafmachine
DESCRIPTION:
URL:https://sallydansgezelschapmaastricht.nl/event/de-grote-gele-graafmachine-19-10-23/
LOCATION:Leidse Schouwburg\, Leiden\, Nederland
CATEGORIES:De Grote Gele Graafmachine
ATTACH;FMTTYPE=image/webp:https://sallydansgezelschapmaastricht.nl/wp-content/uploads/2022/10/web_3.webp
END:VEVENT
BEGIN:VEVENT
DTSTART;TZID=Europe/Amsterdam:20231022T143000
DTEND;TZID=Europe/Amsterdam:20231022T160000
DTSTAMP:20260420T041720
CREATED:20230807T093853Z
LAST-MODIFIED:20230807T093853Z
UID:5952-1697985000-1697990400@sallydansgezelschapmaastricht.nl
SUMMARY:De Grote Gele Graafmachine
DESCRIPTION:
URL:https://sallydansgezelschapmaastricht.nl/event/de-grote-gele-graafmachine-22-10-23/
LOCATION:SPOT/Stadsschouwburg Groningen\, Turfsingel 86\, Groningen\, 9711 VX\, Netherlands
CATEGORIES:De Grote Gele Graafmachine
ATTACH;FMTTYPE=image/webp:https://sallydansgezelschapmaastricht.nl/wp-content/uploads/2022/10/web_3.webp
END:VEVENT
BEGIN:VEVENT
DTSTART;TZID=Europe/Amsterdam:20231029T140000
DTEND;TZID=Europe/Amsterdam:20231029T160000
DTSTAMP:20260420T041720
CREATED:20230807T102028Z
LAST-MODIFIED:20230807T102028Z
UID:5954-1698588000-1698595200@sallydansgezelschapmaastricht.nl
SUMMARY:De Grote Gele Graafmachine
DESCRIPTION:
URL:https://sallydansgezelschapmaastricht.nl/event/de-grote-gele-graafmachine-29-10-23/
LOCATION:De Maaspoort Theater & Events\, Venlo
CATEGORIES:De Grote Gele Graafmachine
ATTACH;FMTTYPE=image/webp:https://sallydansgezelschapmaastricht.nl/wp-content/uploads/2022/10/web_3.webp
END:VEVENT
END:VCALENDAR